BEGIN:VCALENDAR
VERSION:2.0
PRODID:-//AgendaSport - ECPv6.15.20//NONSGML v1.0//EN
CALSCALE:GREGORIAN
METHOD:PUBLISH
X-ORIGINAL-URL:https://agendasport.ch
X-WR-CALDESC:Eventi per AgendaSport
REFRESH-INTERVAL;VALUE=DURATION:PT1H
X-Robots-Tag:noindex
X-PUBLISHED-TTL:PT1H
BEGIN:VTIMEZONE
TZID:Europe/Zurich
BEGIN:DAYLIGHT
TZOFFSETFROM:+0100
TZOFFSETTO:+0200
TZNAME:CEST
DTSTART:20230326T010000
END:DAYLIGHT
BEGIN:STANDARD
TZOFFSETFROM:+0200
TZOFFSETTO:+0100
TZNAME:CET
DTSTART:20231029T010000
END:STANDARD
BEGIN:DAYLIGHT
TZOFFSETFROM:+0100
TZOFFSETTO:+0200
TZNAME:CEST
DTSTART:20240331T010000
END:DAYLIGHT
BEGIN:STANDARD
TZOFFSETFROM:+0200
TZOFFSETTO:+0100
TZNAME:CET
DTSTART:20241027T010000
END:STANDARD
BEGIN:DAYLIGHT
TZOFFSETFROM:+0100
TZOFFSETTO:+0200
TZNAME:CEST
DTSTART:20250330T010000
END:DAYLIGHT
BEGIN:STANDARD
TZOFFSETFROM:+0200
TZOFFSETTO:+0100
TZNAME:CET
DTSTART:20251026T010000
END:STANDARD
END:VTIMEZONE
BEGIN:VEVENT
DTSTART;TZID=Europe/Zurich:20240911T183000
DTEND;TZID=Europe/Zurich:20240911T200000
DTSTAMP:20260422T192440
CREATED:20241017T000254Z
LAST-MODIFIED:20241017T000339Z
UID:10000035-1726079400-1726084800@agendasport.ch
SUMMARY:Tutti in pista giovanile - Capriasca 2024
DESCRIPTION:La gara dei 1’000 metri in pista è una competizione di mezzofondo per la categoria U16. Si svolge sulla pista veloce e morbida di Capriasca\, coprendo 2 giri e mezzo. Per i più giovani U10\, è prevista una corsa di 600 metri. \nPerché partecipare: È l’unica gara di 1’000 metri rimasta nel calendario ASTi\, offrendo un’esperienza speciale per i giovani atleti e un’opportunità di misurarsi su una pista di alta qualità. \nIn fondo alla pagina troverai ulteriori dettagli sull’evento e il link diretto per iscrizioni e maggiori informazioni.
URL:https://agendasport.ch/evento/tutti-in-pista-giovanile-capriasca-2024/
LOCATION:Arena sportiva Capriasca e Val Colla\, Tesserete\, 6950\, Switzerland
ATTACH;FMTTYPE=image/jpeg:https://agendasport.ch/wp-content/uploads/2024/10/poa-ycw1w8u-e1729123410991.jpg
ORGANIZER;CN="Unione Sportiva Capriaschese Sezione Atletica":MAILTO:info@uscatletica.ch
END:VEVENT
BEGIN:VEVENT
DTSTART;TZID=Europe/Zurich:20240911T183000
DTEND;TZID=Europe/Zurich:20240911T200000
DTSTAMP:20260422T192440
CREATED:20241017T000011Z
LAST-MODIFIED:20241017T000011Z
UID:10000034-1726079400-1726084800@agendasport.ch
SUMMARY:Tutti in pista - Capriasca 2024
DESCRIPTION:La corsa di 5’000 metri sulla pista atletica di Capriasca è una competizione di mezzofondo prolungato\, inclusa nel programma olimpico e storicamente parte della Coppa ASTi. La gara si svolge su 12 giri e mezzo di una pista veloce e morbida a Tesserete\, un pittoresco paese noto per la tranquillità e la bellezza dei suoi paesaggi naturali. \nPerché partecipare: È l’unica gara di 5’000 metri rimasta nel calendario ASTi\, offrendo un’opportunità unica per gli appassionati di atletica di testare le proprie abilità. \nIn fondo alla pagina troverai ulteriori dettagli sull’evento e il link diretto per iscrizioni e maggiori informazioni.
URL:https://agendasport.ch/evento/tutti-in-pista-capriasca-2024/
LOCATION:Arena sportiva Capriasca e Val Colla\, Tesserete\, 6950\, Switzerland
ATTACH;FMTTYPE=image/jpeg:https://agendasport.ch/wp-content/uploads/2024/10/atsaeoee8nk-e1729123204112.jpg
ORGANIZER;CN="Unione Sportiva Capriaschese Sezione Atletica":MAILTO:info@uscatletica.ch
END:VEVENT
END:VCALENDAR