BEGIN:VCALENDAR
VERSION:2.0
PRODID:-//AgendaSport - ECPv6.15.20//NONSGML v1.0//EN
CALSCALE:GREGORIAN
METHOD:PUBLISH
X-WR-CALNAME:AgendaSport
X-ORIGINAL-URL:https://agendasport.ch
X-WR-CALDESC:Eventi per AgendaSport
REFRESH-INTERVAL;VALUE=DURATION:PT1H
X-Robots-Tag:noindex
X-PUBLISHED-TTL:PT1H
BEGIN:VTIMEZONE
TZID:Europe/Zurich
BEGIN:DAYLIGHT
TZOFFSETFROM:+0100
TZOFFSETTO:+0200
TZNAME:CEST
DTSTART:20240331T010000
END:DAYLIGHT
BEGIN:STANDARD
TZOFFSETFROM:+0200
TZOFFSETTO:+0100
TZNAME:CET
DTSTART:20241027T010000
END:STANDARD
BEGIN:DAYLIGHT
TZOFFSETFROM:+0100
TZOFFSETTO:+0200
TZNAME:CEST
DTSTART:20250330T010000
END:DAYLIGHT
BEGIN:STANDARD
TZOFFSETFROM:+0200
TZOFFSETTO:+0100
TZNAME:CET
DTSTART:20251026T010000
END:STANDARD
BEGIN:DAYLIGHT
TZOFFSETFROM:+0100
TZOFFSETTO:+0200
TZNAME:CEST
DTSTART:20260329T010000
END:DAYLIGHT
BEGIN:STANDARD
TZOFFSETFROM:+0200
TZOFFSETTO:+0100
TZNAME:CET
DTSTART:20261025T010000
END:STANDARD
END:VTIMEZONE
BEGIN:VEVENT
DTSTART;TZID=Europe/Zurich:20250531T140000
DTEND;TZID=Europe/Zurich:20250531T180000
DTSTAMP:20260420T024347
CREATED:20250525T062620Z
LAST-MODIFIED:20250525T063856Z
UID:10003298-1748700000-1748714400@agendasport.ch
SUMMARY:Gara amatoriale di MTB - La 4 ore di Lodrino
DESCRIPTION:Torna la classica gara amatoriale di mountain bike della Riviera: la 4 ore di Lodrino\, giunta alla 27ª edizione. Organizzata con passione dall’Hockey Club Lodrino ’76 in collaborazione con il Velo Club 3 Valli\, la competizione si svolge su un circuito ad anello immerso nella natura\, da percorrere quante più volte possibile nell’arco di 4 ore. L’evento è aperto a tutti: appassionati\, famiglie e team aziendali\, con categorie che valorizzano spirito sportivo e inclusività\, comprese le e-bike. Il contesto festoso e l’ottima organizzazione fanno di questa manifestazione una delle più amate del calendario amatoriale ticinese. \nCategorie previste\n– Singoli\n– Coppie (divise per fasce d’età)\n– E-bike \n📜 Regolamento ufficiale \n💻 Iscrizioni online aperte su: 👉 www.hclodrino.ch \nDurante tutta la giornata\n– Griglia e buvette\n– Area relax con musica e intrattenimento \nPerché partecipare\nLa “4 ore di Lodrino” è molto più di una gara; è un’esperienza sportiva aperta a tutti\, capace di coinvolgere atleti esperti e semplici appassionati in un’atmosfera calorosa e ben organizzata. Il tracciato accessibile ma divertente\, l’ottima accoglienza e l’energia contagiosa del pubblico rendono questa giornata imperdibile. Un’occasione perfetta per pedalare\, divertirsi e godere di una grande giornata di sport nella Riviera. \nIn fondo alla pagina troverai ulteriori dettagli sull’evento e il link diretto per iscrizioni e maggiori informazioni.
URL:https://agendasport.ch/evento/gara-amatoriale-di-mtb-la-4-ore-di-lodrino/
LOCATION:Campo sportivo Lodrino\, Via Vetreria 1\, Lodrino\, 6527\, Switzerland
ATTACH;FMTTYPE=image/jpeg:https://agendasport.ch/wp-content/uploads/2025/01/9789242.jpeg
ORGANIZER;CN="Hockey Club Lodrino":MAILTO:info@hclodrino.ch
END:VEVENT
BEGIN:VEVENT
DTSTART;TZID=Europe/Zurich:20250524T090000
DTEND;TZID=Europe/Zurich:20250524T150000
DTSTAMP:20260420T024347
CREATED:20250417T172714Z
LAST-MODIFIED:20250425T235837Z
UID:10003002-1748077200-1748098800@agendasport.ch
SUMMARY:Giornata di tiro con l'arco per principianti
DESCRIPTION:Questa giornata di prova\, proposta dall’Istituto della Formazione Continua (IFC) del Canton Ticino\, è un’introduzione ideale per coloro che desiderano avvicinarsi al tiro con l’arco in modo semplice e sicuro. Pensato per principianti assoluti\, il corso si svolge in un’unica giornata presso Lodrino\, in un’area all’aperto attrezzata per accogliere l’attività in totale sicurezza. \nDurante la giornata\, i partecipanti apprenderanno le nozioni fondamentali di questa disciplina: la postura\, la tecnica base di tiro\, l’utilizzo dell’attrezzatura\, la concentrazione e il respiro. L’attività è guidata da istruttori esperti che sapranno creare un ambiente stimolante e adatto a ogni livello\, promuovendo un’esperienza sportiva tanto formativa quanto divertente. Il materiale viene fornito dagli organizzatori\, permettendo a tutti di partecipare senza necessità di equipaggiamento personale. \nPrezzo: \n\nIscrizione CHF 80.-\nNoleggio materiale sul posto CHF 50.-\n\nPerché partecipare: per scoprire una disciplina che unisce concentrazione\, autocontrollo e precisione\, il tutto in un contesto naturale e rilassante. Partecipare permette di vivere un’intensa giornata di apprendimento\, esplorare una nuova passione e trascorrere tempo all’aria aperta\, sviluppando abilità tecniche e mentali. Un’esperienza accessibile e coinvolgente per chi cerca uno sport diverso\, lontano dalla competizione e vicino all’equilibrio personale. \nIn fondo alla pagina troverai ulteriori dettagli sull’evento e il link diretto per iscrizioni e maggiori informazioni.
URL:https://agendasport.ch/evento/giornata-di-tiro-con-larco-per-principianti/
LOCATION:Campo sportivo Lodrino\, Via Vetreria 1\, Lodrino\, 6527\, Switzerland
ATTACH;FMTTYPE=image/jpeg:https://agendasport.ch/wp-content/uploads/2025/04/6620420-scaled.jpeg
END:VEVENT
END:VCALENDAR