BEGIN:VCALENDAR
VERSION:2.0
PRODID:-//AgendaSport - ECPv6.15.20//NONSGML v1.0//EN
CALSCALE:GREGORIAN
METHOD:PUBLISH
X-WR-CALNAME:AgendaSport
X-ORIGINAL-URL:https://agendasport.ch
X-WR-CALDESC:Eventi per AgendaSport
REFRESH-INTERVAL;VALUE=DURATION:PT1H
X-Robots-Tag:noindex
X-PUBLISHED-TTL:PT1H
BEGIN:VTIMEZONE
TZID:Europe/Zurich
BEGIN:DAYLIGHT
TZOFFSETFROM:+0100
TZOFFSETTO:+0200
TZNAME:CEST
DTSTART:20240331T010000
END:DAYLIGHT
BEGIN:STANDARD
TZOFFSETFROM:+0200
TZOFFSETTO:+0100
TZNAME:CET
DTSTART:20241027T010000
END:STANDARD
BEGIN:DAYLIGHT
TZOFFSETFROM:+0100
TZOFFSETTO:+0200
TZNAME:CEST
DTSTART:20250330T010000
END:DAYLIGHT
BEGIN:STANDARD
TZOFFSETFROM:+0200
TZOFFSETTO:+0100
TZNAME:CET
DTSTART:20251026T010000
END:STANDARD
BEGIN:DAYLIGHT
TZOFFSETFROM:+0100
TZOFFSETTO:+0200
TZNAME:CEST
DTSTART:20260329T010000
END:DAYLIGHT
BEGIN:STANDARD
TZOFFSETFROM:+0200
TZOFFSETTO:+0100
TZNAME:CET
DTSTART:20261025T010000
END:STANDARD
END:VTIMEZONE
BEGIN:VEVENT
DTSTART;TZID=Europe/Zurich:20250523T090000
DTEND;TZID=Europe/Zurich:20250523T163000
DTSTAMP:20260419T151851
CREATED:20250518T054303Z
LAST-MODIFIED:20250518T054303Z
UID:10003220-1747990800-1748017800@agendasport.ch
SUMMARY:Escursione guidata "tra boschi ed alpeggi"
DESCRIPTION:L’escursione inizia con una visita alla suggestiva Chiesa di Colla\, per poi proseguire lungo un sentiero che attraversa pascoli e alpeggi tipici della zona\, come i “Barchi” e l’Alpe Pietrarossa\, situata ai piedi del Gazzirola. La salita culmina alla panoramica Cima Moncucco (1’725 m)\, da cui si gode una vista mozzafiato sul golfo di Lugano e sul Camoghé. Il percorso continua verso Piandanazzo e\, attraverso tratti boschivi e antichi alpeggi\, si rientra a Colla. \nAspetti tecnici\n📏 Distanza: 12\,9 km ⛰️ Dislivello salita: 775 m ⏱️ Durata: 4 h 15 min ⚙️ Difficoltà: Alta (T2) \nParticolarità\nAneddoti sui “Coléta”\, gli abitanti della valle\nVisita alla storica Chiesa di Colla\nPanorami spettacolari dalla Cima Moncucco\nAttraversamento di alpeggi tradizionali e boschi secolari \nRitrovo alle 09:15 presso la fermata bus “Colla Paese” (arrivo bus previsto alle 09:06). \nIscrizione e termini\nContributo: CHF 15.00 (membri TicinoSentieri); CHF 25.00 (non membri). Min: 6; max: 20 partecipanti.\nIscrizioni fino al 20.05.2025 tramite il seguente formulario: Formulario d’iscrizione \nGuida: Natasha Rosselli\, +41 79 276 76 61\nnatasha.rosselli@bluewin.ch \nPerché partecipare\nUn’escursione che unisce natura\, cultura e tradizione\, ideale per chi desidera scoprire i paesaggi alpini del Luganese e immergersi nelle storie locali. \nIn fondo alla pagina troverai ulteriori dettagli sull’evento e il link diretto per iscrizioni e maggiori informazioni.
URL:https://agendasport.ch/evento/escursione-guidata-tra-boschi-ed-alpeggi/
LOCATION:Cime Moncucco\, Switzerland
ATTACH;FMTTYPE=image/jpeg:https://agendasport.ch/wp-content/uploads/2025/05/19437097-scaled.jpeg
ORGANIZER;CN="Ticino Sentieri":MAILTO:info@ticinosentieri.ch
END:VEVENT
END:VCALENDAR