BEGIN:VCALENDAR
VERSION:2.0
PRODID:-//AgendaSport - ECPv6.15.20//NONSGML v1.0//EN
CALSCALE:GREGORIAN
METHOD:PUBLISH
X-WR-CALNAME:AgendaSport
X-ORIGINAL-URL:https://agendasport.ch
X-WR-CALDESC:Eventi per AgendaSport
REFRESH-INTERVAL;VALUE=DURATION:PT1H
X-Robots-Tag:noindex
X-PUBLISHED-TTL:PT1H
BEGIN:VTIMEZONE
TZID:Europe/Zurich
BEGIN:DAYLIGHT
TZOFFSETFROM:+0100
TZOFFSETTO:+0200
TZNAME:CEST
DTSTART:20230326T010000
END:DAYLIGHT
BEGIN:STANDARD
TZOFFSETFROM:+0200
TZOFFSETTO:+0100
TZNAME:CET
DTSTART:20231029T010000
END:STANDARD
BEGIN:DAYLIGHT
TZOFFSETFROM:+0100
TZOFFSETTO:+0200
TZNAME:CEST
DTSTART:20240331T010000
END:DAYLIGHT
BEGIN:STANDARD
TZOFFSETFROM:+0200
TZOFFSETTO:+0100
TZNAME:CET
DTSTART:20241027T010000
END:STANDARD
BEGIN:DAYLIGHT
TZOFFSETFROM:+0100
TZOFFSETTO:+0200
TZNAME:CEST
DTSTART:20250330T010000
END:DAYLIGHT
BEGIN:STANDARD
TZOFFSETFROM:+0200
TZOFFSETTO:+0100
TZNAME:CET
DTSTART:20251026T010000
END:STANDARD
BEGIN:DAYLIGHT
TZOFFSETFROM:+0100
TZOFFSETTO:+0200
TZNAME:CEST
DTSTART:20260329T010000
END:DAYLIGHT
BEGIN:STANDARD
TZOFFSETFROM:+0200
TZOFFSETTO:+0100
TZNAME:CET
DTSTART:20261025T010000
END:STANDARD
END:VTIMEZONE
BEGIN:VEVENT
DTSTART;TZID=Europe/Zurich:20250921T100000
DTEND;TZID=Europe/Zurich:20250921T130000
DTSTAMP:20260420T074356
CREATED:20250817T101608Z
LAST-MODIFIED:20250918T225335Z
UID:10004685-1758448800-1758459600@agendasport.ch
SUMMARY:Slowrun: Corsa per beneficienza ad Agno
DESCRIPTION:Torna l’appuntamento benefico “Slowrun” (corsa / camminata di 8 km) organizzato da Slowdream ABM in collaborazione con Greenhope: un percorso suggestivo lungo la storica Strada Regina (Agno-Bioggio-Manno)\, chiusa al traffico per l’occasione. Partenza e arrivo sono previsti a Serocca d’Agno\, presso il vivace stand Greenhope. Dopo l’impegno sportivo\, tutti i partecipanti sono invitati a gustare la pasta offerta dall’organizzazione. Un’occasione per muoversi\, stare all’aperto e fare del bene insieme. \nDettagli \n\nLuogo e percorso: 8 km da percorrere correndo (Slowrun) o camminando (Slowalk)\, lungo i territori di Agno\, Bioggio e Manno\, su una strada storica chiusa al traffico.\nIscrizioni: Modulo d’iscrizione per facilitare l’organizzazione e per garantirsi il gadget incluso nella tassa\nL’iscrizione sul posto sarà possibile il giorno dell’evento dalle 9:00 alle 9:45 presso lo stand Greenhope\, con gadget fino a esaurimento.\nQuota: Chf 20.-\nPasto per i partecipanti: Pasta gratuita offerta a tutti i partecipanti dopo l’evento\, grazie all’organizzazione Slowdream ABM.\nFinalità benefica: La quota d’iscrizione è destinata alla Greenhope Foundation\, sostenuta anche grazie al contributo degli sponsor. L’evento promuove il movimento e la solidarietà.\n\nPerché partecipare\nSlowrun è molto più di una semplice corsa di 8 km: è un evento che mette al centro la familiarità\, la natura e la solidarietà. Partecipando sostieni la Greenhope Foundation\, ritrovi amici e familiari lungo un percorso suggestivo e sicuro\, in mezzo a paesaggi senza traffico. Dopo la fatica\, c’è anche il piacere di una pasta condivisa\, momento di festa e condivisione. Un’esperienza autentica che fa bene al corpo e al cuore. \nIn fondo alla pagina troverai ulteriori dettagli sull’evento e il link diretto per iscrizioni e maggiori informazioni.
URL:https://agendasport.ch/evento/slowrun-corsa-per-beneficienza-ad-agno/
LOCATION:Serocca d’Agno\, 6982\, Switzerland
CATEGORIES:Manifestazioni
ATTACH;FMTTYPE=image/jpeg:https://agendasport.ch/wp-content/uploads/2025/08/14140589-scaled.jpeg
ORGANIZER;CN="Slowrun":MAILTO:slowrunabm@gmail.com
END:VEVENT
BEGIN:VEVENT
DTSTART;TZID=Europe/Zurich:20240915T100000
DTEND;TZID=Europe/Zurich:20240915T140000
DTSTAMP:20260420T074356
CREATED:20241026T225117Z
LAST-MODIFIED:20241107T153958Z
UID:10000094-1726394400-1726408800@agendasport.ch
SUMMARY:Slowrun: Corsa di beneficenza 2024
DESCRIPTION:La Slowrun è un evento che unisce sport e beneficenza\, offrendo un percorso di circa 8 km attraverso i comuni di Agno\, Bioggio e Manno. Può essere completato sia correndo che camminando\, rendendo l’esperienza accessibile a tutti\, dai corridori più esperti alle famiglie con bambini. L’evento si svolge lungo la Strada Regina\, una storica via immersa nella natura\, chiusa al traffico per l’occasione. Oltre alla corsa\, ci sono anche bancarelle\, animazioni e stand informativi per promuovere uno stile di vita attivo e sostenibile. \nPerché partecipare: Partecipare alla Slowrun significa non solo fare del movimento in un ambiente sano e sicuro\, ma anche contribuire a una buona causa: tutto il ricavato dell’evento va a sostegno della Greenhope Foundation\, che supporta progetti benefici legati alla lotta contro il cancro infantile​. \nIn fondo alla pagina troverai ulteriori dettagli sull’evento e il link diretto per iscrizioni e maggiori informazioni.
URL:https://agendasport.ch/evento/slowrun-corsa-di-beneficenza-2024/
LOCATION:Serocca d’Agno\, 6982\, Switzerland
ATTACH;FMTTYPE=image/jpeg:https://agendasport.ch/wp-content/uploads/2024/10/r_IMG_7952.jpg
ORGANIZER;CN="Slowrun":MAILTO:slowrunabm@gmail.com
END:VEVENT
END:VCALENDAR