BEGIN:VCALENDAR
VERSION:2.0
PRODID:-//AgendaSport - ECPv6.15.20//NONSGML v1.0//EN
CALSCALE:GREGORIAN
METHOD:PUBLISH
X-WR-CALNAME:AgendaSport
X-ORIGINAL-URL:https://agendasport.ch
X-WR-CALDESC:Eventi per AgendaSport
REFRESH-INTERVAL;VALUE=DURATION:PT1H
X-Robots-Tag:noindex
X-PUBLISHED-TTL:PT1H
BEGIN:VTIMEZONE
TZID:Europe/Zurich
BEGIN:DAYLIGHT
TZOFFSETFROM:+0100
TZOFFSETTO:+0200
TZNAME:CEST
DTSTART:20240331T010000
END:DAYLIGHT
BEGIN:STANDARD
TZOFFSETFROM:+0200
TZOFFSETTO:+0100
TZNAME:CET
DTSTART:20241027T010000
END:STANDARD
BEGIN:DAYLIGHT
TZOFFSETFROM:+0100
TZOFFSETTO:+0200
TZNAME:CEST
DTSTART:20250330T010000
END:DAYLIGHT
BEGIN:STANDARD
TZOFFSETFROM:+0200
TZOFFSETTO:+0100
TZNAME:CET
DTSTART:20251026T010000
END:STANDARD
BEGIN:DAYLIGHT
TZOFFSETFROM:+0100
TZOFFSETTO:+0200
TZNAME:CEST
DTSTART:20260329T010000
END:DAYLIGHT
BEGIN:STANDARD
TZOFFSETFROM:+0200
TZOFFSETTO:+0100
TZNAME:CET
DTSTART:20261025T010000
END:STANDARD
END:VTIMEZONE
BEGIN:VEVENT
DTSTART;TZID=Europe/Zurich:20250824T090000
DTEND;TZID=Europe/Zurich:20250824T170000
DTSTAMP:20260422T185541
CREATED:20250802T185718Z
LAST-MODIFIED:20250802T185749Z
UID:10004676-1756026000-1756054800@agendasport.ch
SUMMARY:Güstemm er Verzasca – Passeggiata enogastronomica
DESCRIPTION:“Güstemm er Verzasca” è un itinerario enogastronomico unico che unisce activazione fisica\, scoperta e sapori locali. Lungo un percorso di circa 6\,8 km con un dislivello di 230 metri\, si esplorano sentieri boscosi e antiche vie che collegano Sonogno e Frasco\, passando attraverso paesaggi incontaminati tipici della valle Lungo il cammino\, i partecipanti si fermano in 10 tappe gastronomiche\, dove produttori\, ristoratori e associazioni della Verzasca offrono degustazioni di prodotti tipici: formaggi\, affettati\, dolci\, vini\, piatti tradizionali e bevande locali. Ad accogliere i partecipanti\, un’atmosfera calorosa e comunitaria\, tra risate\, paesaggi alpini e profumi genuini. \nDettagli tecnici e programma \n\nPercorso: 6\,8 km su sentieri\, sterrato e tratti asfaltati (non adatto a passeggini o sedie a rotelle); durata stimata: 4 5 ore\nPartenze: scaglionate ogni 15 minuti in gruppi di circa 30 persone; check-in presso il parcheggio di Sonogno\, circa 10 minuti prima dell’orario scelto\nTarget e abbigliamento: adatta a camminatori con passo tranquillo; consigliati scarpe da trekking\, abbigliamento comodo e una borraccia\n\nCosti e iscrizione \n\nAdulti (16+): CHF 60\nRagazzi (7–15 anni): CHF 35\nBambini fino a 6 anni: gratuito\nIscrizione obbligatoria dal 20 luglio 2025 sul sito ufficiale gustemerverzasca.ch\nAnnullamento: l’evento è cancellato in caso di maltempo\n\nPerché partecipare\nPer vivere a pieno il territorio verzaschese: una camminata conviviale immersa in scenari naturali e borghi storici\, arricchita da dieci soste gastronomiche che celebrano l’eccellenza locale. È l’occasione perfetta per incontrare produttori autentici\, gustare specialità del territorio e condividere momenti tra amici o in famiglia\, il tutto in un contesto paesaggistico magico. Un modo leggero\, gustoso e culturale di esplorare la valle\, nutrendo corpo e spirito lungo un percorso curato e animato dalla passione dei volontari locali. \nIn fondo alla pagina troverai ulteriori dettagli sull’evento e il link diretto per iscrizioni e maggiori informazioni.
URL:https://agendasport.ch/evento/gustemm-er-verzasca-passeggiata-enogastronomica/
LOCATION:Verzasca\, Switzerland
ATTACH;FMTTYPE=image/jpeg:https://agendasport.ch/wp-content/uploads/2025/08/FI7I4933-2048x1365-1.jpg
ORGANIZER;CN="G%C3%BCstemm er Verzasca":MAILTO:info@gustemerverzasca.ch
END:VEVENT
BEGIN:VEVENT
DTSTART;TZID=Europe/Zurich:20250529T083000
DTEND;TZID=Europe/Zurich:20250529T163000
DTSTAMP:20260422T185541
CREATED:20250505T212115Z
LAST-MODIFIED:20250505T212821Z
UID:10003101-1748507400-1748536200@agendasport.ch
SUMMARY:Escursione guidata nella val Cazza
DESCRIPTION:Ritrovo a La Selvatica (a destra della diga della Verzasca) alle 08:30. Da qui iniziamo un anello che tocca i caratteristici borghi di Fontobbia e Lignasca\, per salire poi fino ai suggestivi Monti Motti e Mietri\, con viste mozzafiato sul bacino della Verzasca. L’itinerario\, che parte e termina sempre a La Selvatica\, offre un perfetto equilibrio tra paesaggi rurali e panorami d’alta quota\, con tratti di bosco e radure fiorite. Il rientro è previsto per le ore 16:30 al punto di partenza \nAspetti tecnici📏 Distanza: 10\,2 km⛰️ Dislivello salita: 925 m⏱️ Durata: 4 h 15 min⚙️ Difficoltà: Alta (T2) \nParticolaritàAnello completo con passaggi dai pittoreschi Monti Motti e Monti MietriTratti panoramici sulla valle e sulla diga della VerzascaPercorso dotato di punti di sosta fotografica \nPunto d’incontro08:30h La Selvatica\, a destra della diga della Verzasca \nIscrizione e terminiContributo: CHF 15 membri / CHF 25 non membriMin: 5; max: 20 partecipantiIscrizioni fino al 26.05.2025 tramite il seguente formulario: Formulario d’iscrizioneGuida: Manuela Ostini\, +41 79 342 08 35manuela.ostini@hotmail.com \nPerché partecipareUn itinerario avventuroso che unisce borghi storici\, boschi ombrosi e panorami d’alta quota: ideale per chi desidera mettersi alla prova su un percorso vario e ricco di scorci pittoreschi. \nIn fondo alla pagina troverai ulteriori dettagli sull’evento e il link diretto per iscrizioni e maggiori informazioni.
URL:https://agendasport.ch/evento/escursione-guidata-nella-val-cazza/
LOCATION:Verzasca\, Switzerland
ATTACH;FMTTYPE=image/webp:https://agendasport.ch/wp-content/uploads/2025/05/283b34e2b2fa0fbc8177ce9854831675033145af30c5b03176f6c058405de674.jpg.webp
ORGANIZER;CN="Ticino Sentieri":MAILTO:info@ticinosentieri.ch
END:VEVENT
END:VCALENDAR