BEGIN:VCALENDAR
VERSION:2.0
PRODID:-//AgendaSport - ECPv6.15.20//NONSGML v1.0//EN
CALSCALE:GREGORIAN
METHOD:PUBLISH
X-WR-CALNAME:AgendaSport
X-ORIGINAL-URL:https://agendasport.ch
X-WR-CALDESC:Eventi per AgendaSport
REFRESH-INTERVAL;VALUE=DURATION:PT1H
X-Robots-Tag:noindex
X-PUBLISHED-TTL:PT1H
BEGIN:VTIMEZONE
TZID:Europe/Zurich
BEGIN:DAYLIGHT
TZOFFSETFROM:+0100
TZOFFSETTO:+0200
TZNAME:CEST
DTSTART:20250330T010000
END:DAYLIGHT
BEGIN:STANDARD
TZOFFSETFROM:+0200
TZOFFSETTO:+0100
TZNAME:CET
DTSTART:20251026T010000
END:STANDARD
BEGIN:DAYLIGHT
TZOFFSETFROM:+0100
TZOFFSETTO:+0200
TZNAME:CEST
DTSTART:20260329T010000
END:DAYLIGHT
BEGIN:STANDARD
TZOFFSETFROM:+0200
TZOFFSETTO:+0100
TZNAME:CET
DTSTART:20261025T010000
END:STANDARD
BEGIN:DAYLIGHT
TZOFFSETFROM:+0100
TZOFFSETTO:+0200
TZNAME:CEST
DTSTART:20270328T010000
END:DAYLIGHT
BEGIN:STANDARD
TZOFFSETFROM:+0200
TZOFFSETTO:+0100
TZNAME:CET
DTSTART:20271031T010000
END:STANDARD
END:VTIMEZONE
BEGIN:VEVENT
DTSTART;TZID=Europe/Zurich:20260530T093000
DTEND;TZID=Europe/Zurich:20260531T150000
DTSTAMP:20260422T172333
CREATED:20260422T014628Z
LAST-MODIFIED:20260422T022224Z
UID:10006162-1780133400-1780239600@agendasport.ch
SUMMARY:Bellinzona Castles & GO: corsa tra i castelli UNESCO
DESCRIPTION:Il Bellinzona Castles & GO è una manifestazione podistica unica nel suo genere che unisce sport\, cultura e animazione nel suggestivo contesto della Fortezza UNESCO di Bellinzona. I percorsi si sviluppano tra i castelli\, il centro storico e i dintorni della città\, offrendo un’esperienza immersiva che combina attività fisica e scoperta del territorio.\nDefinita “la corsa più medievale della Terra”\, la manifestazione si distingue per il suo format originale: lungo i tracciati sono presenti animazioni\, musica e rievocazioni che accompagnano i partecipanti. Il weekend si apre con la giornata “Move & GO!”\, dedicata alla scoperta di attività sportive e culturali del territorio.\nL’evento è pensato per un pubblico ampio e propone diverse modalità di partecipazione\, dalla gara podistica alla walking\, fino alle attività dedicate ai più giovani. \n\n📍 Ritrovo: Bellinzona\, Piazza del Sole (villaggio evento) \n🗓️ Programma di massima\nSabato – Move & GO!\nAttività sportive e culturali aperte al pubblico\nPresentazione associazioni del territorio\nGara benefica per bambini\nAnimazioni e musica in Piazza del Sole \nDomenica\n09:45 partenza Walking / Nordic Walking (11 km)\n10:45 partenza gara podistica (11 km)\nDalle 12:00 pranzo al villaggio gara\nDalle 13:00 premiazioni \n\nDettagli tecnici – Gara podistica\nDistanza: 11 km\nDislivello: circa +250 m\nTempo limite: 1h30\nLivello consigliato: 🟠 medio \nWalking / Nordic Walking\nDistanza: 11 km\nDislivello: circa +350 m\nTempo limite: 2h30\nLivello consigliato: 🟢 accessibile \nGara bambini\nPercorso su circuito breve (più giri)\nEvento non competitivo \n\nCaratteristiche evento\n🏰 Percorso nella Fortezza UNESCO di Bellinzona\n🎭 Animazioni e musica lungo il tracciato\n🎉 Villaggio evento in Piazza del Sole\n🍝 Pranzo conviviale post-gara\n🚿 Servizi: spogliatoi\, deposito borse\, assistenza sanitaria\n🚰 Ristori lungo il percorso \n\nIscrizione\nIscrizione online tramite sito ufficiale: https://www.castlesandgo.com\nPossibilità di iscrizione sul posto (con supplemento)\nQuote: Gara podistica: CHF 45.– (online) / Walking: CHF 40.– (online) / Giovani: tariffa ridotta / Gara bambini: CHF 10.–\nLe quote possono variare in base alla data di iscrizione e alla modalità scelta. \n\nPerché partecipare\nIl Bellinzona Castles & GO è un evento originale che va oltre la classica gara podistica\, offrendo un’esperienza che unisce sport\, cultura e intrattenimento. Correre o camminare all’interno della Fortezza di Bellinzona\, patrimonio UNESCO\, rende il percorso particolarmente suggestivo e diverso dalle proposte tradizionali.\nLa presenza di animazioni lungo il tracciato\, il villaggio evento e il programma del sabato rendono la manifestazione accessibile anche a famiglie e partecipanti non competitivi. È una proposta ideale per chi cerca un evento ben organizzato\, coinvolgente e fortemente legato al territorio. \n\nIn fondo alla pagina troverai ulteriori dettagli sull’evento e il link diretto alla pagina dell’organizzatore per maggiori informazioni ed iscrizioni.
URL:https://agendasport.ch/evento/bellinzona-castles-go-corsa-tra-i-castelli-unesco/
LOCATION:Bellinzona\, 6500\, Switzerland
CATEGORIES:Competizioni,Manifestazioni
ATTACH;FMTTYPE=image/jpeg:https://agendasport.ch/wp-content/uploads/2024/10/foto.jpg
ORGANIZER;CN="Bellinzona Castles & GO":MAILTO:castlesandgo@gmail.com
END:VEVENT
END:VCALENDAR