BEGIN:VCALENDAR
VERSION:2.0
PRODID:-//AgendaSport - ECPv6.15.20//NONSGML v1.0//EN
CALSCALE:GREGORIAN
METHOD:PUBLISH
X-WR-CALNAME:AgendaSport
X-ORIGINAL-URL:https://agendasport.ch
X-WR-CALDESC:Eventi per AgendaSport
REFRESH-INTERVAL;VALUE=DURATION:PT1H
X-Robots-Tag:noindex
X-PUBLISHED-TTL:PT1H
BEGIN:VTIMEZONE
TZID:Europe/Zurich
BEGIN:DAYLIGHT
TZOFFSETFROM:+0100
TZOFFSETTO:+0200
TZNAME:CEST
DTSTART:20240331T010000
END:DAYLIGHT
BEGIN:STANDARD
TZOFFSETFROM:+0200
TZOFFSETTO:+0100
TZNAME:CET
DTSTART:20241027T010000
END:STANDARD
BEGIN:DAYLIGHT
TZOFFSETFROM:+0100
TZOFFSETTO:+0200
TZNAME:CEST
DTSTART:20250330T010000
END:DAYLIGHT
BEGIN:STANDARD
TZOFFSETFROM:+0200
TZOFFSETTO:+0100
TZNAME:CET
DTSTART:20251026T010000
END:STANDARD
BEGIN:DAYLIGHT
TZOFFSETFROM:+0100
TZOFFSETTO:+0200
TZNAME:CEST
DTSTART:20260329T010000
END:DAYLIGHT
BEGIN:STANDARD
TZOFFSETFROM:+0200
TZOFFSETTO:+0100
TZNAME:CET
DTSTART:20261025T010000
END:STANDARD
END:VTIMEZONE
BEGIN:VEVENT
DTSTART;TZID=Europe/Zurich:20250525T073000
DTEND;TZID=Europe/Zurich:20250525T143000
DTSTAMP:20260419T152622
CREATED:20250525T093547Z
LAST-MODIFIED:20250525T093807Z
UID:10003305-1748158200-1748183400@agendasport.ch
SUMMARY:Corsa in montagna ai monti di Marena
DESCRIPTION:Evento sportivo e amatoriale che propone la classica corsa in salita dalla piazza di Maggia ai panoramici Monti di Marena: 2\,6 km con un dislivello positivo di 550 m. Aperta a tutti\, dalla camminata Nordic Walking alla competizione podistica\, unisce sfida personale\, contatto con la natura e convivialità \nDettagli tecnici\nLuogo di partenza: Piazza Maggia\, Marena\, 6673 Maggia (TI)\nPercorso: 2\,6 km – dislivello +550 m (sentiero sterrato e mulattiera)\nApertura a tutti i livelli: dalla camminata veloce al podismo competitivo \nPerché partecipare\nPer mettersi alla prova in un contesto naturale unico\, respirando l’aria pura della Valle Maggia e godendo di panorami mozzafiato. È l’occasione perfetta per testare la propria resistenza\, condividere la passione per la montagna con amici o famigliari e vivere una giornata di sport all’insegna della socialità: dalla camminata Nordic alla competizione podistica\, fino al pranzo e alla musica dal vivo\, ogni momento è pensato per celebrare la comunità e il benessere all’aria aperta \nIn fondo alla pagina troverai ulteriori dettagli sull’evento e il link diretto per iscrizioni e maggiori informazioni.
URL:https://agendasport.ch/evento/corsa-in-montagna-ai-monti-di-marena/
ATTACH;FMTTYPE=image/jpeg:https://agendasport.ch/wp-content/uploads/2025/05/Cattura-1.jpg
ORGANIZER;CN="Corsa da Marena":MAILTO:filippocoduri@gmail.com
END:VEVENT
END:VCALENDAR