BEGIN:VCALENDAR
VERSION:2.0
PRODID:-//AgendaSport - ECPv6.15.20//NONSGML v1.0//EN
CALSCALE:GREGORIAN
METHOD:PUBLISH
X-ORIGINAL-URL:https://agendasport.ch
X-WR-CALDESC:Eventi per AgendaSport
REFRESH-INTERVAL;VALUE=DURATION:PT1H
X-Robots-Tag:noindex
X-PUBLISHED-TTL:PT1H
BEGIN:VTIMEZONE
TZID:Europe/Zurich
BEGIN:DAYLIGHT
TZOFFSETFROM:+0100
TZOFFSETTO:+0200
TZNAME:CEST
DTSTART:20230326T010000
END:DAYLIGHT
BEGIN:STANDARD
TZOFFSETFROM:+0200
TZOFFSETTO:+0100
TZNAME:CET
DTSTART:20231029T010000
END:STANDARD
BEGIN:DAYLIGHT
TZOFFSETFROM:+0100
TZOFFSETTO:+0200
TZNAME:CEST
DTSTART:20240331T010000
END:DAYLIGHT
BEGIN:STANDARD
TZOFFSETFROM:+0200
TZOFFSETTO:+0100
TZNAME:CET
DTSTART:20241027T010000
END:STANDARD
BEGIN:DAYLIGHT
TZOFFSETFROM:+0100
TZOFFSETTO:+0200
TZNAME:CEST
DTSTART:20250330T010000
END:DAYLIGHT
BEGIN:STANDARD
TZOFFSETFROM:+0200
TZOFFSETTO:+0100
TZNAME:CET
DTSTART:20251026T010000
END:STANDARD
BEGIN:DAYLIGHT
TZOFFSETFROM:+0100
TZOFFSETTO:+0200
TZNAME:CEST
DTSTART:20260329T010000
END:DAYLIGHT
BEGIN:STANDARD
TZOFFSETFROM:+0200
TZOFFSETTO:+0100
TZNAME:CET
DTSTART:20261025T010000
END:STANDARD
END:VTIMEZONE
BEGIN:VEVENT
DTSTART;TZID=Europe/Zurich:20251018T133000
DTEND;TZID=Europe/Zurich:20251018T190000
DTSTAMP:20260419T140745
CREATED:20251011T150248Z
LAST-MODIFIED:20251011T150248Z
UID:10005162-1760794200-1760814000@agendasport.ch
SUMMARY:Bike’n’Wine Mendrisiotto 2025
DESCRIPTION:Un tour guidato in bicicletta alla scoperta del Mendrisiotto e delle sue eccellenze vinicole. L’escursione di mezza giornata attraversa le colline più suggestive della regione\, con visite a tre cantine e degustazioni di almeno dieci vini locali accompagnati da prodotti tipici. Un’esperienza che unisce sport\, natura e cultura del territorio\, adatta a tutti i livelli di ciclisti. \nDettagli \n\n📍 Partenza: Borgovecchio SA\, Via Sotto Bisio 5\, Balerna\n🕐 Orario di ritrovo: 13:30\n⏱️ Durata: ca. 5 ore\n🚲 Difficoltà: facile\n💰 Quota di partecipazione: CHF 115\n👥 Partecipanti: minimo 6\, massimo 30\n\nPerché partecipare\nPartecipare al Bike’n’Wine Mendrisiotto significa vivere un’esperienza autentica che combina l’attività fisica con la scoperta del patrimonio enogastronomico locale. Pedalando tra vigneti e paesaggi mozzafiato\, si incontrano viticoltori appassionati e si degustano i sapori più genuini del territorio. È l’occasione perfetta per trascorrere una giornata all’aria aperta\, condividere momenti conviviali e conoscere da vicino la regione più vignata del Ticino in un’atmosfera rilassata e accogliente. \nAltre informazioni e iscrizioni: In fondo alla pagina troverai ulteriori dettagli sull’evento e il link diretto per iscrizioni e maggiori informazioni.
URL:https://agendasport.ch/evento/bikenwine-mendrisiotto-2025/2025-10-18/
LOCATION:Mendrisio\, 6850\, Switzerland
CATEGORIES:Escursioni,Manifestazioni
ATTACH;FMTTYPE=image/png:https://agendasport.ch/wp-content/uploads/2025/06/ChatGPT-Image-9-giu-2025-16_08_20.png
ORGANIZER;CN="Mendrisiotto Terroir":MAILTO:info@mendrisiottoterroir.ch
END:VEVENT
BEGIN:VEVENT
DTSTART;TZID=Europe/Zurich:20251011T133000
DTEND;TZID=Europe/Zurich:20251011T190000
DTSTAMP:20260419T140745
CREATED:20251011T150248Z
LAST-MODIFIED:20251011T150248Z
UID:10005161-1760189400-1760209200@agendasport.ch
SUMMARY:Bike’n’Wine Mendrisiotto 2025
DESCRIPTION:Un tour guidato in bicicletta alla scoperta del Mendrisiotto e delle sue eccellenze vinicole. L’escursione di mezza giornata attraversa le colline più suggestive della regione\, con visite a tre cantine e degustazioni di almeno dieci vini locali accompagnati da prodotti tipici. Un’esperienza che unisce sport\, natura e cultura del territorio\, adatta a tutti i livelli di ciclisti. \nDettagli \n\n📍 Partenza: Borgovecchio SA\, Via Sotto Bisio 5\, Balerna\n🕐 Orario di ritrovo: 13:30\n⏱️ Durata: ca. 5 ore\n🚲 Difficoltà: facile\n💰 Quota di partecipazione: CHF 115\n👥 Partecipanti: minimo 6\, massimo 30\n\nPerché partecipare\nPartecipare al Bike’n’Wine Mendrisiotto significa vivere un’esperienza autentica che combina l’attività fisica con la scoperta del patrimonio enogastronomico locale. Pedalando tra vigneti e paesaggi mozzafiato\, si incontrano viticoltori appassionati e si degustano i sapori più genuini del territorio. È l’occasione perfetta per trascorrere una giornata all’aria aperta\, condividere momenti conviviali e conoscere da vicino la regione più vignata del Ticino in un’atmosfera rilassata e accogliente. \nAltre informazioni e iscrizioni: In fondo alla pagina troverai ulteriori dettagli sull’evento e il link diretto per iscrizioni e maggiori informazioni.
URL:https://agendasport.ch/evento/bikenwine-mendrisiotto-2025/2025-10-11/
LOCATION:Mendrisio\, 6850\, Switzerland
CATEGORIES:Escursioni,Manifestazioni
ATTACH;FMTTYPE=image/png:https://agendasport.ch/wp-content/uploads/2025/06/ChatGPT-Image-9-giu-2025-16_08_20.png
ORGANIZER;CN="Mendrisiotto Terroir":MAILTO:info@mendrisiottoterroir.ch
END:VEVENT
BEGIN:VEVENT
DTSTART;TZID=Europe/Zurich:20241109T140000
DTEND;TZID=Europe/Zurich:20241109T190000
DTSTAMP:20260419T140745
CREATED:20241017T005320Z
LAST-MODIFIED:20241107T152249Z
UID:10000040-1731160800-1731178800@agendasport.ch
SUMMARY:Bike & Wine Mendrisiotto 2024 - 3°
DESCRIPTION:Il Bike&Wine Mendrisiotto è un tour in bicicletta di circa cinque ore attraverso le colline del Mendrisiotto. Offre un mix perfetto di attività fisica all’aria aperta e la scoperta della tradizione vinicola locale. Pedalando su percorsi suggestivi\, si visitano tre cantine\, dove è possibile degustare vini locali e specialità tipiche. L’evento si rivolge a ciclisti di ogni livello\, abbinando movimento\, natura e sapori del territorio. \nPerchè partecipare: Partecipare al Bike&Wine Mendrisiotto permette di vivere un’esperienza unica che combina l’attività fisica con la scoperta di un territorio ricco di storia e tradizione vinicola. Pedalando attraverso paesaggi spettacolari\, si ha l’opportunità di gustare eccellenze enogastronomiche locali e trascorrere una giornata all’insegna della natura e del relax. \nIn fondo alla pagina troverai ulteriori dettagli sull’evento e il link diretto per iscrizioni e maggiori informazioni.
URL:https://agendasport.ch/evento/bike-wine-mendrisiotto-2024-3/
LOCATION:Mendrisio\, 6850\, Switzerland
ATTACH;FMTTYPE=image/jpeg:https://agendasport.ch/wp-content/uploads/2024/11/1548771-scaled.jpg
ORGANIZER;CN="Mendrisiotto Terroir":MAILTO:info@mendrisiottoterroir.ch
END:VEVENT
BEGIN:VEVENT
DTSTART;TZID=Europe/Zurich:20241019T140000
DTEND;TZID=Europe/Zurich:20241019T190000
DTSTAMP:20260419T140745
CREATED:20241017T005206Z
LAST-MODIFIED:20241107T153425Z
UID:10000039-1729346400-1729364400@agendasport.ch
SUMMARY:Bike & Wine Mendrisiotto 2024 - 2°
DESCRIPTION:Il Bike&Wine Mendrisiotto è un tour in bicicletta di circa cinque ore attraverso le colline del Mendrisiotto. Offre un mix perfetto di attività fisica all’aria aperta e la scoperta della tradizione vinicola locale. Pedalando su percorsi suggestivi\, si visitano tre cantine\, dove è possibile degustare vini locali e specialità tipiche. L’evento si rivolge a ciclisti di ogni livello\, abbinando movimento\, natura e sapori del territorio. \nPerchè partecipare: Partecipare al Bike&Wine Mendrisiotto permette di vivere un’esperienza unica che combina l’attività fisica con la scoperta di un territorio ricco di storia e tradizione vinicola. Pedalando attraverso paesaggi spettacolari\, si ha l’opportunità di gustare eccellenze enogastronomiche locali e trascorrere una giornata all’insegna della natura e del relax. \nIn fondo alla pagina troverai ulteriori dettagli sull’evento e il link diretto per iscrizioni e maggiori informazioni.
URL:https://agendasport.ch/evento/bike-wine-mendrisiotto-2024-2/
LOCATION:Mendrisio\, 6850\, Switzerland
ATTACH;FMTTYPE=image/jpeg:https://agendasport.ch/wp-content/uploads/2024/11/1548771-scaled.jpg
ORGANIZER;CN="Mendrisiotto Terroir":MAILTO:info@mendrisiottoterroir.ch
END:VEVENT
BEGIN:VEVENT
DTSTART;TZID=Europe/Zurich:20241005T140000
DTEND;TZID=Europe/Zurich:20241005T190000
DTSTAMP:20260419T140745
CREATED:20241017T005007Z
LAST-MODIFIED:20241107T150237Z
UID:10000038-1728136800-1728154800@agendasport.ch
SUMMARY:Bike & Wine Mendrisiotto 2024 - 1°
DESCRIPTION:Il Bike&Wine Mendrisiotto è un tour in bicicletta di circa cinque ore attraverso le colline del Mendrisiotto. Offre un mix perfetto di attività fisica all’aria aperta e la scoperta della tradizione vinicola locale. Pedalando su percorsi suggestivi\, si visitano tre cantine\, dove è possibile degustare vini locali e specialità tipiche. L’evento si rivolge a ciclisti di ogni livello\, abbinando movimento\, natura e sapori del territorio. \nPerchè partecipare: Partecipare al Bike&Wine Mendrisiotto permette di vivere un’esperienza unica che combina l’attività fisica con la scoperta di un territorio ricco di storia e tradizione vinicola. Pedalando attraverso paesaggi spettacolari\, si ha l’opportunità di gustare eccellenze enogastronomiche locali e trascorrere una giornata all’insegna della natura e del relax. \nIn fondo alla pagina troverai ulteriori dettagli sull’evento e il link diretto per iscrizioni e maggiori informazioni.
URL:https://agendasport.ch/evento/bike-wine-mendrisiotto-2024-1/
LOCATION:Mendrisio\, 6850\, Switzerland
ATTACH;FMTTYPE=image/jpeg:https://agendasport.ch/wp-content/uploads/2024/11/1548771-scaled.jpg
ORGANIZER;CN="Mendrisiotto Terroir":MAILTO:info@mendrisiottoterroir.ch
END:VEVENT
END:VCALENDAR