BEGIN:VCALENDAR
VERSION:2.0
PRODID:-//AgendaSport - ECPv6.15.20//NONSGML v1.0//EN
CALSCALE:GREGORIAN
METHOD:PUBLISH
X-WR-CALNAME:AgendaSport
X-ORIGINAL-URL:https://agendasport.ch
X-WR-CALDESC:Eventi per AgendaSport
REFRESH-INTERVAL;VALUE=DURATION:PT1H
X-Robots-Tag:noindex
X-PUBLISHED-TTL:PT1H
BEGIN:VTIMEZONE
TZID:Europe/Zurich
BEGIN:DAYLIGHT
TZOFFSETFROM:+0100
TZOFFSETTO:+0200
TZNAME:CEST
DTSTART:20230326T010000
END:DAYLIGHT
BEGIN:STANDARD
TZOFFSETFROM:+0200
TZOFFSETTO:+0100
TZNAME:CET
DTSTART:20231029T010000
END:STANDARD
BEGIN:DAYLIGHT
TZOFFSETFROM:+0100
TZOFFSETTO:+0200
TZNAME:CEST
DTSTART:20240331T010000
END:DAYLIGHT
BEGIN:STANDARD
TZOFFSETFROM:+0200
TZOFFSETTO:+0100
TZNAME:CET
DTSTART:20241027T010000
END:STANDARD
BEGIN:DAYLIGHT
TZOFFSETFROM:+0100
TZOFFSETTO:+0200
TZNAME:CEST
DTSTART:20250330T010000
END:DAYLIGHT
BEGIN:STANDARD
TZOFFSETFROM:+0200
TZOFFSETTO:+0100
TZNAME:CET
DTSTART:20251026T010000
END:STANDARD
BEGIN:DAYLIGHT
TZOFFSETFROM:+0100
TZOFFSETTO:+0200
TZNAME:CEST
DTSTART:20260329T010000
END:DAYLIGHT
BEGIN:STANDARD
TZOFFSETFROM:+0200
TZOFFSETTO:+0100
TZNAME:CET
DTSTART:20261025T010000
END:STANDARD
END:VTIMEZONE
BEGIN:VEVENT
DTSTART;TZID=Europe/Zurich:20251221T100000
DTEND;TZID=Europe/Zurich:20251221T133000
DTSTAMP:20260424T013629
CREATED:20251011T141526Z
LAST-MODIFIED:20251011T141526Z
UID:10005158-1766311200-1766323800@agendasport.ch
SUMMARY:Corsa da Natal - Ascona
DESCRIPTION:La Corsa da Natal è una manifestazione podistica tradizionale che si tiene ogni anno la domenica prima di Natale ad Ascona. Dal 1980\, ciò che era nata come una gara “casalinga” si è sviluppata fino a diventare la corsa popolare più longeva del Canton Ticino\, con partecipanti che vanno dai più piccoli ai più anziani\, dilettanti e professionisti. Le romantiche vie del borgo di Ascona\, addobbate a festa\, creano un’atmosfera unica che attira anno dopo anno gli appassionati della corsa\, della natura e del Natale. \nDettagli \n\nOrario: dalle 10:00 alle 13:30\nLuogo: Piazza Giuseppe Motta\, 6612 Ascona\nCategorie / distanze: varie corse per tutti — dai bambini agli adulti\, e con varie distanze: 0.3 km\, 1.5 km\, 3.0 km e 6.0 km\n\nPerché partecipare\nPartecipare alla Corsa da Natal significa inserirsi nella magia del Natale correndo tra le vie decorate di Ascona\, respirando l’atmosfera accogliente del borgo e facendo parte di una tradizione che unisce generazioni. È un’occasione perfetta per mettersi alla prova in una gara cittadina piacevole\, per condividere il piacere del movimento\, incontrare altre persone con la stessa passione e chiudere l’anno con energia e buon umore. \nIn fondo alla pagina troverai ulteriori dettagli sull’evento e il link diretto per iscrizioni e maggiori informazioni.
URL:https://agendasport.ch/evento/corsa-da-natal-ascona/
LOCATION:Ascona\, Ascona\, 6612\, Switzerland
CATEGORIES:Manifestazioni
ATTACH;FMTTYPE=image/jpeg:https://agendasport.ch/wp-content/uploads/2024/10/csm_02_corsa_da_natal_a723dffc13.jpg
ORGANIZER;CN="Unione Sportiva Ascona":MAILTO:info@usascona.ch
END:VEVENT
BEGIN:VEVENT
DTSTART;TZID=Europe/Zurich:20241222T090000
DTEND;TZID=Europe/Zurich:20241222T150000
DTSTAMP:20260424T013629
CREATED:20241020T094447Z
LAST-MODIFIED:20241107T152113Z
UID:10000070-1734858000-1734879600@agendasport.ch
SUMMARY:Corsa da Natal ad Ascona 2024
DESCRIPTION:La “Corsa da Natal” è una gara tradizionale che si svolge ad Ascona dal 1980\, solitamente la domenica prima di Natale. L’evento\, aperto a partecipanti di tutte le età\, dai bambini agli anziani\, attira sia professionisti che appassionati di corsa. Il percorso si snoda per le stradine addobbate di Ascona\, creando un’atmosfera magica che affascina i concorrenti. La corsa è diventata la più longeva del Canton Ticino\, offrendo una combinazione di sport e spirito natalizio. \nPerchè partecipare: Partecipare alla “Corsa da Natal” è un’opportunità unica per vivere l’atmosfera festiva di Ascona\, con il suo incantevole scenario invernale. L’evento promuove uno spirito di comunità\, unendo persone di tutte le età in una celebrazione di sport e convivialità. È un modo divertente per mantenersi attivi durante le festività\, creando ricordi speciali e condividendo la passione per la corsa. \nIn fondo alla pagina troverai ulteriori dettagli sull’evento e il link diretto per iscrizioni e maggiori informazioni.
URL:https://agendasport.ch/evento/corsa-da-natal-ad-ascona-2024/
LOCATION:Ascona\, Ascona\, 6612\, Switzerland
ATTACH;FMTTYPE=image/jpeg:https://agendasport.ch/wp-content/uploads/2024/10/csm_02_corsa_da_natal_a723dffc13.jpg
ORGANIZER;CN="Unione Sportiva Ascona":MAILTO:info@usascona.ch
END:VEVENT
END:VCALENDAR